1.0
0.0
0.0
-1.0
286965
6717534.99
